BEGIN:VCALENDAR
PRODID:-//PUBBLE//agenda//NL
VERSION:2.0
METHOD:PUBLISH
BEGIN:VEVENT
DTSTART:20260416T071710Z
DTEND:20260416T081710Z
DTSTAMP:20260425T172816Z
UID:ddc95119-92a6-4b29-8a3d-0208af9f2025
CREATED:20260425T172816Z
NAME:Bingo Jaarsveld  zenderstreeknieuws.nl
X-WR-CALNAME:Bingo Jaarsveld 
X-ALT-DESC;FMTTYPE=text/html:<a href='/agenda/2026/4/25/bingo-jaarsveld-461196'>/agenda/2026/4/25/bingo-jaarsveld-461196</a> || <p>Zaterdag 25 april is er in Jaarsveld in het Verenigingsgebouw een bingoavond met mooie prijzen en een gratis ronde.</p><p>De koffie en de thee is ook gratis. Deze gezellige avond begint om 20.00 uur. Iedereen is van harte welkom!</p>
DESCRIPTION:<a href='/agenda/2026/4/25/bingo-jaarsveld-461196'>/agenda/2026/4/25/bingo-jaarsveld-461196</a> || <p>Zaterdag 25 april is er in Jaarsveld in het Verenigingsgebouw een bingoavond met mooie prijzen en een gratis ronde.</p><p>De koffie en de thee is ook gratis. Deze gezellige avond begint om 20.00 uur. Iedereen is van harte welkom!</p>
LAST-MODIFIED:20260425T172816Z
LOCATION: Verenigingsgebouw Jaarsveld | Kerkstraat 7 Jaarsveld
SEQUENCE:0
STATUS:CONFIRMED
SUMMARY:Bingo Jaarsveld 
TRANSP:OPAQUE
END:VEVENT
END:VCALENDAR
