BEGIN:VCALENDAR
PRODID:-//PUBBLE//agenda//NL
VERSION:2.0
METHOD:PUBLISH
BEGIN:VEVENT
DTSTART:20260414T112836Z
DTEND:20260414T122836Z
DTSTAMP:20260423T071945Z
UID:621975e7-0cdd-4e98-962c-ba757cfcb901
CREATED:20260423T071945Z
NAME:Bomenwandeling in IJsselstein zenderstreeknieuws.nl
X-WR-CALNAME:Bomenwandeling in IJsselstein
X-ALT-DESC;FMTTYPE=text/html:<a href='/agenda/2026/4/23/bomenwandeling-in-ijsselstein-461037'>/agenda/2026/4/23/bomenwandeling-in-ijsselstein-461037</a> || <p>Met het voorjaar in volle gang organiseert UIT in IJsselstein de sfeervolle bomenwandeling: een wandeling vol groen, bloesem en verrassende verhalen. Een mooie gelegenheid om IJsselstein in een ander licht te bekijken en al wandelend te genieten van alles wat buiten weer tot leven komt. Duur wandeling: circa 1,5 uur. Prijs: 7,50 euro per persoon. Vooraf aanmelden is noodzakelijk. Er geldt een maximum deelnemers. Aanmelden kan bij UIT in IJsselstein, Overtoom 7, in de bibliotheek. Mail naar info@uitinijsselstein.nl of bel 030 688 72 73. Meer informatie: www.inijsselstein.nl.</p>
DESCRIPTION:<a href='/agenda/2026/4/23/bomenwandeling-in-ijsselstein-461037'>/agenda/2026/4/23/bomenwandeling-in-ijsselstein-461037</a> || <p>Met het voorjaar in volle gang organiseert UIT in IJsselstein de sfeervolle bomenwandeling: een wandeling vol groen, bloesem en verrassende verhalen. Een mooie gelegenheid om IJsselstein in een ander licht te bekijken en al wandelend te genieten van alles wat buiten weer tot leven komt. Duur wandeling: circa 1,5 uur. Prijs: 7,50 euro per persoon. Vooraf aanmelden is noodzakelijk. Er geldt een maximum deelnemers. Aanmelden kan bij UIT in IJsselstein, Overtoom 7, in de bibliotheek. Mail naar info@uitinijsselstein.nl of bel 030 688 72 73. Meer informatie: www.inijsselstein.nl.</p>
LAST-MODIFIED:20260423T071945Z
LOCATION: Bibliotheek IJsselstein | Overtoom 7 IJsselstein
SEQUENCE:0
STATUS:CONFIRMED
SUMMARY:Bomenwandeling in IJsselstein
TRANSP:OPAQUE
END:VEVENT
END:VCALENDAR
