BEGIN:VCALENDAR
PRODID:-//PUBBLE//agenda//NL
VERSION:2.0
METHOD:PUBLISH
BEGIN:VEVENT
DTSTART:20260418T180000Z
DTEND:20260418T203000Z
DTSTAMP:20260419T123552Z
UID:5a25c850-3177-4183-a8c4-61f5113b0df1
CREATED:20260419T123552Z
NAME:De Dorpsspelers zenderstreeknieuws.nl
X-WR-CALNAME:De Dorpsspelers
X-ALT-DESC;FMTTYPE=text/html:<a href='/agenda/2026/4/18/de-dorpsspelers-460636'>/agenda/2026/4/18/de-dorpsspelers-460636</a> || <p>Boerenbont en rode lampjes. Een vrolijke klucht.&nbsp;</p>
DESCRIPTION:<a href='/agenda/2026/4/18/de-dorpsspelers-460636'>/agenda/2026/4/18/de-dorpsspelers-460636</a> || <p>Boerenbont en rode lampjes. Een vrolijke klucht.&nbsp;</p>
LAST-MODIFIED:20260419T123552Z
LOCATION: Theater Pantalone | Linaeusweg  5 IJsselstein
SEQUENCE:0
STATUS:CONFIRMED
SUMMARY:De Dorpsspelers
TRANSP:OPAQUE
END:VEVENT
END:VCALENDAR
