BEGIN:VCALENDAR
PRODID:-//PUBBLE//agenda//NL
VERSION:2.0
METHOD:PUBLISH
BEGIN:VEVENT
DTSTART:20260422T180000Z
DTEND:20260422T200000Z
DTSTAMP:20260420T194347Z
UID:70eddf6e-e096-4974-9649-c177311b954e
CREATED:20260420T194347Z
NAME:Lezing grensverschuivingen in de Middeleeuwen zenderstreeknieuws.nl
X-WR-CALNAME:Lezing grensverschuivingen in de Middeleeuwen
X-ALT-DESC;FMTTYPE=text/html:<a href='/agenda/2026/4/22/lezing-grensverschuivingen-in-de-middeleeuwen-460599'>/agenda/2026/4/22/lezing-grensverschuivingen-in-de-middeleeuwen-460599</a> || <p>De grens tussen Lopik en Schoonhoven is in de loop van de geschiedenis diverse malen veranderd. René Kappers heeft uitgebreid onderzoek gedaan naar de middeleeuwse geschiedenis van Schoonhoven. Hij vertelt deze avond zijn bevindingen over de grenzen tussen Cabauw, Lopik, Willige Langerak en Schoonhoven in de periode 1247-1400, voor de Historische Vereniging Lopik. Aanmelden noodzakelijk via info@historisch-lopik.nl.</p>
DESCRIPTION:<a href='/agenda/2026/4/22/lezing-grensverschuivingen-in-de-middeleeuwen-460599'>/agenda/2026/4/22/lezing-grensverschuivingen-in-de-middeleeuwen-460599</a> || <p>De grens tussen Lopik en Schoonhoven is in de loop van de geschiedenis diverse malen veranderd. René Kappers heeft uitgebreid onderzoek gedaan naar de middeleeuwse geschiedenis van Schoonhoven. Hij vertelt deze avond zijn bevindingen over de grenzen tussen Cabauw, Lopik, Willige Langerak en Schoonhoven in de periode 1247-1400, voor de Historische Vereniging Lopik. Aanmelden noodzakelijk via info@historisch-lopik.nl.</p>
LAST-MODIFIED:20260420T194347Z
LOCATION: In ´t Witte Paard | Cabauwsekade 42 Cabauw
SEQUENCE:0
STATUS:CONFIRMED
SUMMARY:Lezing grensverschuivingen in de Middeleeuwen
TRANSP:OPAQUE
END:VEVENT
END:VCALENDAR
