BEGIN:VCALENDAR
PRODID:-//PUBBLE//agenda//NL
VERSION:2.0
METHOD:PUBLISH
BEGIN:VEVENT
DTSTART:20260424T110000Z
DTEND:20260424T120000Z
DTSTAMP:20260424T052100Z
UID:c863b06c-cc9a-4416-98d1-4110cd253174
CREATED:20260424T052100Z
NAME:Tekenen met 3D-pen zenderstreeknieuws.nl
X-WR-CALNAME:Tekenen met 3D-pen
X-ALT-DESC;FMTTYPE=text/html:<a href='/agenda/2026/4/24/tekenen-met-3d-pen-460228'>/agenda/2026/4/24/tekenen-met-3d-pen-460228</a> || <p>Ontdek de magie van tekenen in de lucht in de gratis workshop 3D-pen in de Bibliotheek IJsselstein. Voor kinderen vanaf 8 jaar. Een gratis kaartje reserveer je via de website van de Bibliotheek: <a href="//www.bibliotheeklekijssel.nl">www.bibliotheeklekijssel.nl</a>/techniekfestival</p>
DESCRIPTION:<a href='/agenda/2026/4/24/tekenen-met-3d-pen-460228'>/agenda/2026/4/24/tekenen-met-3d-pen-460228</a> || <p>Ontdek de magie van tekenen in de lucht in de gratis workshop 3D-pen in de Bibliotheek IJsselstein. Voor kinderen vanaf 8 jaar. Een gratis kaartje reserveer je via de website van de Bibliotheek: <a href="//www.bibliotheeklekijssel.nl">www.bibliotheeklekijssel.nl</a>/techniekfestival</p>
LAST-MODIFIED:20260424T052100Z
LOCATION: Bibliotheek IJsselstein | Overtoom 7 IJsselstein
SEQUENCE:0
STATUS:CONFIRMED
SUMMARY:Tekenen met 3D-pen
TRANSP:OPAQUE
END:VEVENT
END:VCALENDAR
