BEGIN:VCALENDAR
PRODID:-//PUBBLE//agenda//NL
VERSION:2.0
METHOD:PUBLISH
BEGIN:VEVENT
DTSTART:20260423T120000Z
DTEND:20260423T133000Z
DTSTAMP:20260423T072512Z
UID:81786f9a-03cf-497d-bec5-5f1a7da4caec
CREATED:20260423T072512Z
NAME:Inloopspreekuur Openbaar Vervoer zenderstreeknieuws.nl
X-WR-CALNAME:Inloopspreekuur Openbaar Vervoer
X-ALT-DESC;FMTTYPE=text/html:<a href='/agenda/2026/4/23/inloopspreekuur-openbaar-vervoer-460172'>/agenda/2026/4/23/inloopspreekuur-openbaar-vervoer-460172</a> || <p>Kom voor meer informatie over OVpay of voor hulp bij het aanvragen van de OV-pas naar het inloopspreekuur Openbaar Vervoer. </p>
DESCRIPTION:<a href='/agenda/2026/4/23/inloopspreekuur-openbaar-vervoer-460172'>/agenda/2026/4/23/inloopspreekuur-openbaar-vervoer-460172</a> || <p>Kom voor meer informatie over OVpay of voor hulp bij het aanvragen van de OV-pas naar het inloopspreekuur Openbaar Vervoer. </p>
LAST-MODIFIED:20260423T072512Z
LOCATION: Bibliotheek IJsselstein | Overtoom 7 IJsselstein
SEQUENCE:0
STATUS:CONFIRMED
SUMMARY:Inloopspreekuur Openbaar Vervoer
TRANSP:OPAQUE
END:VEVENT
END:VCALENDAR
