BEGIN:VCALENDAR
PRODID:-//PUBBLE//agenda//NL
VERSION:2.0
METHOD:PUBLISH
BEGIN:VEVENT
DTSTART:20260420T120000Z
DTEND:20260420T133000Z
DTSTAMP:20260420T132329Z
UID:9211c3eb-53ad-4442-b94f-8d0092883768
CREATED:20260420T132329Z
NAME:Inloopspreekuur Openbaar Vervoer zenderstreeknieuws.nl
X-WR-CALNAME:Inloopspreekuur Openbaar Vervoer
X-ALT-DESC;FMTTYPE=text/html:<a href='/agenda/2026/4/20/inloopspreekuur-openbaar-vervoer-460163'>/agenda/2026/4/20/inloopspreekuur-openbaar-vervoer-460163</a> || <p>Het betalen in het openbaar vervoer is aan het veranderen. Reizen met trein, bus en tram gaat over op OVpay. In- en uitchecken kan vanaf nu eenvoudig met de nieuwe OV-pas of de betaalpas. Daarmee is OVpay de opvolger van de vertrouwde OV-chipkaart. Loopt de OV-chipkaart binnenkort af? Is er behoefte aan meer informatie over OVpay of hulp nodig bij het aanvragen van een OV-pas? Bezoek dan het gratis OV-inloopspreekuur. </p>
DESCRIPTION:<a href='/agenda/2026/4/20/inloopspreekuur-openbaar-vervoer-460163'>/agenda/2026/4/20/inloopspreekuur-openbaar-vervoer-460163</a> || <p>Het betalen in het openbaar vervoer is aan het veranderen. Reizen met trein, bus en tram gaat over op OVpay. In- en uitchecken kan vanaf nu eenvoudig met de nieuwe OV-pas of de betaalpas. Daarmee is OVpay de opvolger van de vertrouwde OV-chipkaart. Loopt de OV-chipkaart binnenkort af? Is er behoefte aan meer informatie over OVpay of hulp nodig bij het aanvragen van een OV-pas? Bezoek dan het gratis OV-inloopspreekuur. </p>
LAST-MODIFIED:20260420T132329Z
LOCATION: Dorpshuis De Schouw | M.A.A. Schakelplein 6 Lopik
SEQUENCE:0
STATUS:CONFIRMED
SUMMARY:Inloopspreekuur Openbaar Vervoer
TRANSP:OPAQUE
END:VEVENT
END:VCALENDAR
