BEGIN:VCALENDAR
PRODID:-//PUBBLE//agenda//NL
VERSION:2.0
METHOD:PUBLISH
BEGIN:VEVENT
DTSTART:20260422T083000Z
DTEND:20260422T103000Z
DTSTAMP:20260420T130840Z
UID:03d70284-cf41-4db1-b45f-d617d981ff47
CREATED:20260420T130840Z
NAME:Instuif zenderstreeknieuws.nl
X-WR-CALNAME:Instuif
X-ALT-DESC;FMTTYPE=text/html:<a href='/agenda/2026/4/22/instuif-459643'>/agenda/2026/4/22/instuif-459643</a> || <p>Kom als leerling van de basisschool kennismaken met verschillende binnensporten als badminton, karate, volleybal en kegelen. Opgeven kan tot 15 april via <a href="mailto:secretariaat.bvdezender@outlook.com">secretariaat.bvdezender@outlook.com</a>. </p>
DESCRIPTION:<a href='/agenda/2026/4/22/instuif-459643'>/agenda/2026/4/22/instuif-459643</a> || <p>Kom als leerling van de basisschool kennismaken met verschillende binnensporten als badminton, karate, volleybal en kegelen. Opgeven kan tot 15 april via <a href="mailto:secretariaat.bvdezender@outlook.com">secretariaat.bvdezender@outlook.com</a>. </p>
LAST-MODIFIED:20260420T130840Z
LOCATION: Sporthal De Wiekslag | M.A.A. Schakelplein 6 Lopik
SEQUENCE:0
STATUS:CONFIRMED
SUMMARY:Instuif
TRANSP:OPAQUE
END:VEVENT
END:VCALENDAR
