BEGIN:VCALENDAR
PRODID:-//PUBBLE//agenda//NL
VERSION:2.0
METHOD:PUBLISH
BEGIN:VEVENT
DTSTART:20260424T090000Z
DTEND:20260424T100000Z
DTSTAMP:20260424T051639Z
UID:3255b915-9c90-4c84-a0c8-4bb8bd64623b
CREATED:20260424T051639Z
NAME:Circus Snor speelt ‘UNBOXED” zenderstreeknieuws.nl
X-WR-CALNAME:Circus Snor speelt ‘UNBOXED”
X-ALT-DESC;FMTTYPE=text/html:<a href='/agenda/2026/4/24/circus-snor-speelt-unboxed--456688'>/agenda/2026/4/24/circus-snor-speelt-unboxed--456688</a> || <p>In een nostalgische circustent nodigt Circus Snor jong en oud uit zich niet te laten kisten. Een grote mysterieuze kist staat centraal: daaruit verschijnen en daarin verdwijnen onverwachte acts, acrobatiek, luchtwerk en humor. Vóór de show en in de pauze opent de KinderKaravaan met oud-Hollandse spelletjes en circusmateriaal. Circus is namelijk meer dan alleen kijken.<br />Meer informatie en kaarten op www.circussnor.nl.</p>
DESCRIPTION:<a href='/agenda/2026/4/24/circus-snor-speelt-unboxed--456688'>/agenda/2026/4/24/circus-snor-speelt-unboxed--456688</a> || <p>In een nostalgische circustent nodigt Circus Snor jong en oud uit zich niet te laten kisten. Een grote mysterieuze kist staat centraal: daaruit verschijnen en daarin verdwijnen onverwachte acts, acrobatiek, luchtwerk en humor. Vóór de show en in de pauze opent de KinderKaravaan met oud-Hollandse spelletjes en circusmateriaal. Circus is namelijk meer dan alleen kijken.<br />Meer informatie en kaarten op www.circussnor.nl.</p>
LAST-MODIFIED:20260424T051639Z
LOCATION: Boerderij Bloemenweidemelk | Blokland 8 Montfoort
SEQUENCE:0
STATUS:CONFIRMED
SUMMARY:Circus Snor speelt ‘UNBOXED”
TRANSP:OPAQUE
END:VEVENT
END:VCALENDAR
