BEGIN:VCALENDAR
PRODID:-//PUBBLE//agenda//NL
VERSION:2.0
METHOD:PUBLISH
BEGIN:VEVENT
DTSTART:20260225T131500Z
DTEND:20260225T141500Z
DTSTAMP:20260420T081957Z
UID:24b1edf2-8ac6-4ab9-baa8-e96da59ad5f6
CREATED:20260420T081957Z
NAME:Voorleesfeest met Bip zenderstreeknieuws.nl
X-WR-CALNAME:Voorleesfeest met Bip
X-ALT-DESC;FMTTYPE=text/html:<a href='/agenda/2026/2/25/voorleesfeest-met-bip-454015'>/agenda/2026/2/25/voorleesfeest-met-bip-454015</a> || <p>Woensdagmiddag 25 februari zijn alle kinderen van 4 t/m 6 jaar van harte welkom in de Bibliotheek IJsselstein voor een vrolijk voorleesfeest. Het begint om 15.15 uur. We lezen voor uit het prentenboek Kamiel de kameel. Meedoen is gratis, aanmelden is niet nodig. </p>
DESCRIPTION:<a href='/agenda/2026/2/25/voorleesfeest-met-bip-454015'>/agenda/2026/2/25/voorleesfeest-met-bip-454015</a> || <p>Woensdagmiddag 25 februari zijn alle kinderen van 4 t/m 6 jaar van harte welkom in de Bibliotheek IJsselstein voor een vrolijk voorleesfeest. Het begint om 15.15 uur. We lezen voor uit het prentenboek Kamiel de kameel. Meedoen is gratis, aanmelden is niet nodig. </p>
LAST-MODIFIED:20260420T081957Z
LOCATION: Bibliotheek IJsselstein | Overtoom 7 IJsselstein
SEQUENCE:0
STATUS:CONFIRMED
SUMMARY:Voorleesfeest met Bip
TRANSP:OPAQUE
END:VEVENT
END:VCALENDAR
