BEGIN:VCALENDAR
PRODID:-//PUBBLE//agenda//NL
VERSION:2.0
METHOD:PUBLISH
BEGIN:VEVENT
DTSTART:20251016T134643Z
DTEND:20260227T143000Z
DTSTAMP:20260420T082717Z
UID:c91ce569-4240-4e3e-97cb-bb97b7014faf
CREATED:20260420T082717Z
NAME:Groene werkdag zenderstreeknieuws.nl
X-WR-CALNAME:Groene werkdag
X-ALT-DESC;FMTTYPE=text/html:<a href='/agenda/2026/2/27/groene-werkdag-440676'>/agenda/2026/2/27/groene-werkdag-440676</a> || <p>Help mee tijdens de Groene Werkmiddag in Voedselbos Velics. Momenteel wordt er hard gewerkt om een fruitboomgaard om te vormen tot een bos met wel meer dan 300 eetbare soorten. Buiten werken voor een goed doel dus. Er is altijd keuze uit licht en zwaarder werk. Koffie, thee en wat lekkers staan klaar voor de pauze. Aanmelden is niet nodig. Voor meer informatie bel: 0683483599 of mail voedselbos@velics.nl.</p>
DESCRIPTION:<a href='/agenda/2026/2/27/groene-werkdag-440676'>/agenda/2026/2/27/groene-werkdag-440676</a> || <p>Help mee tijdens de Groene Werkmiddag in Voedselbos Velics. Momenteel wordt er hard gewerkt om een fruitboomgaard om te vormen tot een bos met wel meer dan 300 eetbare soorten. Buiten werken voor een goed doel dus. Er is altijd keuze uit licht en zwaarder werk. Koffie, thee en wat lekkers staan klaar voor de pauze. Aanmelden is niet nodig. Voor meer informatie bel: 0683483599 of mail voedselbos@velics.nl.</p>
LAST-MODIFIED:20260420T082717Z
LOCATION: Voedselbos Velics | M.A. Reinaldaweg  Lopik
SEQUENCE:0
STATUS:CONFIRMED
SUMMARY:Groene werkdag
TRANSP:OPAQUE
END:VEVENT
END:VCALENDAR
